BEGIN:VCALENDAR
VERSION:2.0
PRODID:-//Louisiana Christian University - ECPv6.15.20//NONSGML v1.0//EN
CALSCALE:GREGORIAN
METHOD:PUBLISH
X-WR-CALNAME:Louisiana Christian University
X-ORIGINAL-URL:https://lcuniversity.edu
X-WR-CALDESC:Events for Louisiana Christian University
REFRESH-INTERVAL;VALUE=DURATION:PT1H
X-Robots-Tag:noindex
X-PUBLISHED-TTL:PT1H
BEGIN:VTIMEZONE
TZID:America/Chicago
BEGIN:DAYLIGHT
TZOFFSETFROM:-0600
TZOFFSETTO:-0500
TZNAME:CDT
DTSTART:20240310T080000
END:DAYLIGHT
BEGIN:STANDARD
TZOFFSETFROM:-0500
TZOFFSETTO:-0600
TZNAME:CST
DTSTART:20241103T070000
END:STANDARD
BEGIN:DAYLIGHT
TZOFFSETFROM:-0600
TZOFFSETTO:-0500
TZNAME:CDT
DTSTART:20250309T080000
END:DAYLIGHT
BEGIN:STANDARD
TZOFFSETFROM:-0500
TZOFFSETTO:-0600
TZNAME:CST
DTSTART:20251102T070000
END:STANDARD
BEGIN:DAYLIGHT
TZOFFSETFROM:-0600
TZOFFSETTO:-0500
TZNAME:CDT
DTSTART:20260308T080000
END:DAYLIGHT
BEGIN:STANDARD
TZOFFSETFROM:-0500
TZOFFSETTO:-0600
TZNAME:CST
DTSTART:20261101T070000
END:STANDARD
END:VTIMEZONE
BEGIN:VEVENT
DTSTART;VALUE=DATE:20251103
DTEND;VALUE=DATE:20251104
DTSTAMP:20260423T064052
CREATED:20250205T101647Z
LAST-MODIFIED:20250205T101647Z
UID:10000332-1762128000-1762214399@lcuniversity.edu
SUMMARY:Sophomore Advising & Online Registration Begins for Spring/Summer 2025
DESCRIPTION:
URL:https://lcuniversity.edu/event/sophomore-advising-online-registration-begins-for-spring-summer-2025-3/
CATEGORIES:Academic
END:VEVENT
BEGIN:VEVENT
DTSTART;VALUE=DATE:20251105
DTEND;VALUE=DATE:20251106
DTSTAMP:20260423T064052
CREATED:20250205T101740Z
LAST-MODIFIED:20250205T101740Z
UID:10000334-1762300800-1762387199@lcuniversity.edu
SUMMARY:Last Day to Withdraw with "W" for Term B Courses
DESCRIPTION:
URL:https://lcuniversity.edu/event/last-day-to-withdraw-with-w-for-term-b-courses-3/
CATEGORIES:Academic
END:VEVENT
BEGIN:VEVENT
DTSTART;VALUE=DATE:20251110
DTEND;VALUE=DATE:20251111
DTSTAMP:20260423T064052
CREATED:20250205T101716Z
LAST-MODIFIED:20250205T101716Z
UID:10000333-1762732800-1762819199@lcuniversity.edu
SUMMARY:Freshman Advising & Online Registration begins for Spring /Summer 2025
DESCRIPTION:
URL:https://lcuniversity.edu/event/freshman-advising-online-registration-begins-for-spring-summer-2025-3/
CATEGORIES:Academic
END:VEVENT
BEGIN:VEVENT
DTSTART;VALUE=DATE:20251114
DTEND;VALUE=DATE:20251115
DTSTAMP:20260423T064052
CREATED:20250205T101817Z
LAST-MODIFIED:20250205T101829Z
UID:10000336-1763078400-1763164799@lcuniversity.edu
SUMMARY:Last Day to Withdraw with "WP/WF" or Resign Full Semester
DESCRIPTION:
URL:https://lcuniversity.edu/event/last-day-to-withdraw-with-wp-wf-or-resign-full-semester-3/
CATEGORIES:Academic
END:VEVENT
BEGIN:VEVENT
DTSTART;VALUE=DATE:20251117
DTEND;VALUE=DATE:20251118
DTSTAMP:20260423T064052
CREATED:20250205T101801Z
LAST-MODIFIED:20250205T101801Z
UID:10000335-1763337600-1763423999@lcuniversity.edu
SUMMARY:Dual Enrollment\, Non-Degree\, New Spring Students Advising & Online Registration Begins for Spring/Summer 2026
DESCRIPTION:
URL:https://lcuniversity.edu/event/dual-enrollment-non-degree-new-spring-students-advising-online-registration-begins-for-spring-summer-2026/
CATEGORIES:Academic
END:VEVENT
BEGIN:VEVENT
DTSTART;VALUE=DATE:20251124
DTEND;VALUE=DATE:20251129
DTSTAMP:20260423T064052
CREATED:20250205T101847Z
LAST-MODIFIED:20250205T101847Z
UID:10000337-1763942400-1764374399@lcuniversity.edu
SUMMARY:Thanksgiving Holidays for Faculty/Students
DESCRIPTION:
URL:https://lcuniversity.edu/event/thanksgiving-holidays-for-faculty-students-3/
CATEGORIES:Academic
END:VEVENT
BEGIN:VEVENT
DTSTART;VALUE=DATE:20251124
DTEND;VALUE=DATE:20251129
DTSTAMP:20260423T064052
CREATED:20250205T101908Z
LAST-MODIFIED:20250205T101908Z
UID:10000338-1763942400-1764374399@lcuniversity.edu
SUMMARY:Thanksgiving Holidays for Staff
DESCRIPTION:
URL:https://lcuniversity.edu/event/thanksgiving-holidays-for-staff-3/
CATEGORIES:Academic
END:VEVENT
END:VCALENDAR