BEGIN:VCALENDAR
VERSION:2.0
PRODID:-//Louisiana Christian University - ECPv6.15.20//NONSGML v1.0//EN
CALSCALE:GREGORIAN
METHOD:PUBLISH
X-WR-CALNAME:Louisiana Christian University
X-ORIGINAL-URL:https://lcuniversity.edu
X-WR-CALDESC:Events for Louisiana Christian University
REFRESH-INTERVAL;VALUE=DURATION:PT1H
X-Robots-Tag:noindex
X-PUBLISHED-TTL:PT1H
BEGIN:VTIMEZONE
TZID:America/Chicago
BEGIN:DAYLIGHT
TZOFFSETFROM:-0600
TZOFFSETTO:-0500
TZNAME:CDT
DTSTART:20240310T080000
END:DAYLIGHT
BEGIN:STANDARD
TZOFFSETFROM:-0500
TZOFFSETTO:-0600
TZNAME:CST
DTSTART:20241103T070000
END:STANDARD
BEGIN:DAYLIGHT
TZOFFSETFROM:-0600
TZOFFSETTO:-0500
TZNAME:CDT
DTSTART:20250309T080000
END:DAYLIGHT
BEGIN:STANDARD
TZOFFSETFROM:-0500
TZOFFSETTO:-0600
TZNAME:CST
DTSTART:20251102T070000
END:STANDARD
BEGIN:DAYLIGHT
TZOFFSETFROM:-0600
TZOFFSETTO:-0500
TZNAME:CDT
DTSTART:20260308T080000
END:DAYLIGHT
BEGIN:STANDARD
TZOFFSETFROM:-0500
TZOFFSETTO:-0600
TZNAME:CST
DTSTART:20261101T070000
END:STANDARD
END:VTIMEZONE
BEGIN:VEVENT
DTSTART;VALUE=DATE:20251003
DTEND;VALUE=DATE:20251004
DTSTAMP:20260421T004703
CREATED:20250205T101013Z
LAST-MODIFIED:20250205T101126Z
UID:10000318-1759449600-1759535999@lcuniversity.edu
SUMMARY:Last Day of Term A Courses
DESCRIPTION:
URL:https://lcuniversity.edu/event/course-schedules-for-spring-and-summer-2026-due-to-registrar-office/
CATEGORIES:Academic
END:VEVENT
BEGIN:VEVENT
DTSTART;VALUE=DATE:20251003
DTEND;VALUE=DATE:20251004
DTSTAMP:20260421T004703
CREATED:20250205T101106Z
LAST-MODIFIED:20250205T101106Z
UID:10000321-1759449600-1759535999@lcuniversity.edu
SUMMARY:Book Orders for Spring Semester Courses Due to Book Store
DESCRIPTION:
URL:https://lcuniversity.edu/event/book-orders-for-spring-semester-courses-due-to-book-store-3/
CATEGORIES:Academic
END:VEVENT
BEGIN:VEVENT
DTSTART;VALUE=DATE:20251004
DTEND;VALUE=DATE:20251008
DTSTAMP:20260421T004703
CREATED:20250205T101200Z
LAST-MODIFIED:20250205T101200Z
UID:10000322-1759536000-1759881599@lcuniversity.edu
SUMMARY:Final Exams Term A Courses
DESCRIPTION:
URL:https://lcuniversity.edu/event/final-exams-term-a-courses-5/
CATEGORIES:Academic
END:VEVENT
BEGIN:VEVENT
DTSTART;VALUE=DATE:20251009
DTEND;VALUE=DATE:20251011
DTSTAMP:20260421T004703
CREATED:20250205T101215Z
LAST-MODIFIED:20250205T101215Z
UID:10000323-1759968000-1760140799@lcuniversity.edu
SUMMARY:Fall Holiday for Faculty\, Staff\, & Students
DESCRIPTION:
URL:https://lcuniversity.edu/event/fall-holiday-for-faculty-staff-students-3/
CATEGORIES:Academic
END:VEVENT
BEGIN:VEVENT
DTSTART;VALUE=DATE:20251013
DTEND;VALUE=DATE:20251014
DTSTAMP:20260421T004703
CREATED:20250205T101235Z
LAST-MODIFIED:20250205T101235Z
UID:10000324-1760313600-1760399999@lcuniversity.edu
SUMMARY:Grades Due - 12:00 noon for Term A Courses
DESCRIPTION:
URL:https://lcuniversity.edu/event/grades-due-1200-noon-for-term-a-courses/
CATEGORIES:Academic
END:VEVENT
BEGIN:VEVENT
DTSTART;VALUE=DATE:20251013
DTEND;VALUE=DATE:20251014
DTSTAMP:20260421T004703
CREATED:20250205T101248Z
LAST-MODIFIED:20250205T101248Z
UID:10000325-1760313600-1760399999@lcuniversity.edu
SUMMARY:Classes Resume
DESCRIPTION:
URL:https://lcuniversity.edu/event/classes-resume-5/
CATEGORIES:Academic
END:VEVENT
BEGIN:VEVENT
DTSTART;VALUE=DATE:20251013
DTEND;VALUE=DATE:20251014
DTSTAMP:20260421T004703
CREATED:20250205T101305Z
LAST-MODIFIED:20250205T101305Z
UID:10000326-1760313600-1760399999@lcuniversity.edu
SUMMARY:First Day of Term B Courses
DESCRIPTION:
URL:https://lcuniversity.edu/event/first-day-of-term-b-courses-5/
CATEGORIES:Academic
END:VEVENT
BEGIN:VEVENT
DTSTART;VALUE=DATE:20251015
DTEND;VALUE=DATE:20251016
DTSTAMP:20260421T004703
CREATED:20250205T101319Z
LAST-MODIFIED:20250205T101319Z
UID:10000327-1760486400-1760572799@lcuniversity.edu
SUMMARY:Last Day to Drop/Add Term B Courses
DESCRIPTION:
URL:https://lcuniversity.edu/event/last-day-to-drop-add-term-b-courses-5/
CATEGORIES:Academic
END:VEVENT
BEGIN:VEVENT
DTSTART;VALUE=DATE:20251018
DTEND;VALUE=DATE:20251019
DTSTAMP:20260421T004703
CREATED:20250205T101532Z
LAST-MODIFIED:20250915T172801Z
UID:10000330-1760745600-1760831999@lcuniversity.edu
SUMMARY:Homecoming
DESCRIPTION:
URL:https://lcuniversity.edu/event/homecoming-3/
CATEGORIES:Academic
END:VEVENT
BEGIN:VEVENT
DTSTART;VALUE=DATE:20251020
DTEND;VALUE=DATE:20251021
DTSTAMP:20260421T004703
CREATED:20250205T101351Z
LAST-MODIFIED:20250205T101351Z
UID:10000328-1760918400-1761004799@lcuniversity.edu
SUMMARY:Senior Advising and C.S. Lewis Honors Advising: Online Registration for Spring/Summer
DESCRIPTION:
URL:https://lcuniversity.edu/event/senior-advising-and-c-s-lewis-honors-advising-online-registration-for-spring-summer/
CATEGORIES:Academic
END:VEVENT
BEGIN:VEVENT
DTSTART;VALUE=DATE:20251020
DTEND;VALUE=DATE:20251021
DTSTAMP:20260421T004703
CREATED:20250205T101427Z
LAST-MODIFIED:20250205T101427Z
UID:10000329-1760918400-1761004799@lcuniversity.edu
SUMMARY:2025 Last Date to Withdraw with a “W” for Full Semester Courses
DESCRIPTION:
URL:https://lcuniversity.edu/event/2025-last-date-to-withdraw-with-a-w-for-full-semester-courses/
CATEGORIES:Academic
END:VEVENT
BEGIN:VEVENT
DTSTART;VALUE=DATE:20251027
DTEND;VALUE=DATE:20251028
DTSTAMP:20260421T004703
CREATED:20250205T101619Z
LAST-MODIFIED:20250205T101619Z
UID:10000331-1761523200-1761609599@lcuniversity.edu
SUMMARY:Junior Advising & Online Registration Begins for Spring/Summer 2025
DESCRIPTION:
URL:https://lcuniversity.edu/event/junior-advising-online-registration-begins-for-spring-summer-2025-3/
CATEGORIES:Academic
END:VEVENT
END:VCALENDAR