BEGIN:VCALENDAR
VERSION:2.0
PRODID:-//Louisiana Christian University - ECPv6.15.20//NONSGML v1.0//EN
CALSCALE:GREGORIAN
METHOD:PUBLISH
X-ORIGINAL-URL:https://lcuniversity.edu
X-WR-CALDESC:Events for Louisiana Christian University
REFRESH-INTERVAL;VALUE=DURATION:PT1H
X-Robots-Tag:noindex
X-PUBLISHED-TTL:PT1H
BEGIN:VTIMEZONE
TZID:America/Chicago
BEGIN:DAYLIGHT
TZOFFSETFROM:-0600
TZOFFSETTO:-0500
TZNAME:CDT
DTSTART:20240310T080000
END:DAYLIGHT
BEGIN:STANDARD
TZOFFSETFROM:-0500
TZOFFSETTO:-0600
TZNAME:CST
DTSTART:20241103T070000
END:STANDARD
BEGIN:DAYLIGHT
TZOFFSETFROM:-0600
TZOFFSETTO:-0500
TZNAME:CDT
DTSTART:20250309T080000
END:DAYLIGHT
BEGIN:STANDARD
TZOFFSETFROM:-0500
TZOFFSETTO:-0600
TZNAME:CST
DTSTART:20251102T070000
END:STANDARD
BEGIN:DAYLIGHT
TZOFFSETFROM:-0600
TZOFFSETTO:-0500
TZNAME:CDT
DTSTART:20260308T080000
END:DAYLIGHT
BEGIN:STANDARD
TZOFFSETFROM:-0500
TZOFFSETTO:-0600
TZNAME:CST
DTSTART:20261101T070000
END:STANDARD
END:VTIMEZONE
BEGIN:VEVENT
DTSTART;VALUE=DATE:20250501
DTEND;VALUE=DATE:20250502
DTSTAMP:20260420T232209
CREATED:20240531T145218Z
LAST-MODIFIED:20240531T145218Z
UID:10000235-1746057600-1746143999@lcuniversity.edu
SUMMARY:Final Exams for Day\, Evening\, and Online Classes
DESCRIPTION:
URL:https://lcuniversity.edu/event/final-exams-for-day-evening-and-online-classes-2/
CATEGORIES:Academic
END:VEVENT
BEGIN:VEVENT
DTSTART;VALUE=DATE:20250501
DTEND;VALUE=DATE:20250502
DTSTAMP:20260420T232209
CREATED:20240531T145218Z
LAST-MODIFIED:20240531T145218Z
UID:10000234-1746057600-1746143999@lcuniversity.edu
SUMMARY:Final Date to Apply for May & August 2026 Graduation
DESCRIPTION:
URL:https://lcuniversity.edu/event/final-date-to-apply-for-may-august-2026-graduation-2/
CATEGORIES:Academic
END:VEVENT
BEGIN:VEVENT
DTSTART;VALUE=DATE:20250507
DTEND;VALUE=DATE:20250508
DTSTAMP:20260420T232209
CREATED:20240531T145233Z
LAST-MODIFIED:20240531T145233Z
UID:10000236-1746576000-1746662399@lcuniversity.edu
SUMMARY:Final Grades Due
DESCRIPTION:
URL:https://lcuniversity.edu/event/final-grades-due-2/
CATEGORIES:Academic
END:VEVENT
BEGIN:VEVENT
DTSTART;VALUE=DATE:20250508
DTEND;VALUE=DATE:20250509
DTSTAMP:20260420T232209
CREATED:20240531T145233Z
LAST-MODIFIED:20240531T145233Z
UID:10000237-1746662400-1746748799@lcuniversity.edu
SUMMARY:MSW Recognition Ceremony
DESCRIPTION:
URL:https://lcuniversity.edu/event/msw-recognition-ceremony-2/
CATEGORIES:Academic
END:VEVENT
BEGIN:VEVENT
DTSTART;VALUE=DATE:20250510
DTEND;VALUE=DATE:20250511
DTSTAMP:20260420T232209
CREATED:20240531T145233Z
LAST-MODIFIED:20240531T145233Z
UID:10000238-1746835200-1746921599@lcuniversity.edu
SUMMARY:Commencement - 10:00 a.m. and 2:00 p.m.
DESCRIPTION:
URL:https://lcuniversity.edu/event/commencement-1000-a-m-and-200-p-m-2/
CATEGORIES:Featured Events
END:VEVENT
BEGIN:VEVENT
DTSTART;VALUE=DATE:20250512
DTEND;VALUE=DATE:20250513
DTSTAMP:20260420T232209
CREATED:20240531T145233Z
LAST-MODIFIED:20240531T145233Z
UID:10000239-1747008000-1747094399@lcuniversity.edu
SUMMARY:On Campus Registration for May Term
DESCRIPTION:
URL:https://lcuniversity.edu/event/on-campus-registration-for-may-term-2/
CATEGORIES:Academic
END:VEVENT
BEGIN:VEVENT
DTSTART;VALUE=DATE:20250512
DTEND;VALUE=DATE:20250513
DTSTAMP:20260420T232209
CREATED:20240531T145233Z
LAST-MODIFIED:20240531T145233Z
UID:10000240-1747008000-1747094399@lcuniversity.edu
SUMMARY:Finalize Registration Online for Summer Terms
DESCRIPTION:
URL:https://lcuniversity.edu/event/finalize-registration-online-for-summer-terms-2/
CATEGORIES:Academic
END:VEVENT
BEGIN:VEVENT
DTSTART;VALUE=DATE:20250513
DTEND;VALUE=DATE:20250514
DTSTAMP:20260420T232209
CREATED:20240531T145247Z
LAST-MODIFIED:20240531T145247Z
UID:10000241-1747094400-1747180799@lcuniversity.edu
SUMMARY:First Day of May Term Classes
DESCRIPTION:
URL:https://lcuniversity.edu/event/first-day-of-may-term-classes-2/
CATEGORIES:Academic
END:VEVENT
BEGIN:VEVENT
DTSTART;VALUE=DATE:20250514
DTEND;VALUE=DATE:20250515
DTSTAMP:20260420T232209
CREATED:20240531T145247Z
LAST-MODIFIED:20240531T145247Z
UID:10000242-1747180800-1747267199@lcuniversity.edu
SUMMARY:Last Day to Register/Drop/Add for May Term
DESCRIPTION:
URL:https://lcuniversity.edu/event/last-day-to-register-drop-add-for-may-term-2/
CATEGORIES:Academic
END:VEVENT
BEGIN:VEVENT
DTSTART;VALUE=DATE:20250519
DTEND;VALUE=DATE:20250520
DTSTAMP:20260420T232209
CREATED:20240531T145247Z
LAST-MODIFIED:20240531T145247Z
UID:10000243-1747612800-1747699199@lcuniversity.edu
SUMMARY:MSW Field hours begin
DESCRIPTION:
URL:https://lcuniversity.edu/event/msw-field-hours-begin-3/
CATEGORIES:Academic
END:VEVENT
BEGIN:VEVENT
DTSTART;VALUE=DATE:20250519
DTEND;VALUE=DATE:20250520
DTSTAMP:20260420T232209
CREATED:20240531T145248Z
LAST-MODIFIED:20240531T145248Z
UID:10000244-1747612800-1747699199@lcuniversity.edu
SUMMARY:Last Day to Withdraw with W for May Term
DESCRIPTION:
URL:https://lcuniversity.edu/event/last-day-to-withdraw-with-w-for-may-term-2/
CATEGORIES:Academic
END:VEVENT
BEGIN:VEVENT
DTSTART;VALUE=DATE:20250524
DTEND;VALUE=DATE:20250525
DTSTAMP:20260420T232209
CREATED:20240531T145248Z
LAST-MODIFIED:20240531T145248Z
UID:10000245-1748044800-1748131199@lcuniversity.edu
SUMMARY:Last Day to Withdraw with WP/WF or Resign from May Term
DESCRIPTION:
URL:https://lcuniversity.edu/event/last-day-to-withdraw-with-wp-wf-or-resign-from-may-term-2/
CATEGORIES:Academic
END:VEVENT
BEGIN:VEVENT
DTSTART;VALUE=DATE:20250526
DTEND;VALUE=DATE:20250527
DTSTAMP:20260420T232209
CREATED:20240531T145303Z
LAST-MODIFIED:20240531T145303Z
UID:10000246-1748217600-1748303999@lcuniversity.edu
SUMMARY:Memorial Day - Offices Closed
DESCRIPTION:
URL:https://lcuniversity.edu/event/memorial-day-offices-closed-3/
CATEGORIES:Holiday
END:VEVENT
BEGIN:VEVENT
DTSTART;VALUE=DATE:20250531
DTEND;VALUE=DATE:20250601
DTSTAMP:20260420T232209
CREATED:20240531T145303Z
LAST-MODIFIED:20240531T145303Z
UID:10000247-1748649600-1748735999@lcuniversity.edu
SUMMARY:Final Exams for May Term
DESCRIPTION:
URL:https://lcuniversity.edu/event/final-exams-for-may-term-2/
CATEGORIES:Academic
END:VEVENT
END:VCALENDAR