BEGIN:VCALENDAR
VERSION:2.0
PRODID:-//Louisiana Christian University - ECPv6.15.20//NONSGML v1.0//EN
CALSCALE:GREGORIAN
METHOD:PUBLISH
X-ORIGINAL-URL:https://lcuniversity.edu
X-WR-CALDESC:Events for Louisiana Christian University
REFRESH-INTERVAL;VALUE=DURATION:PT1H
X-Robots-Tag:noindex
X-PUBLISHED-TTL:PT1H
BEGIN:VTIMEZONE
TZID:America/Chicago
BEGIN:DAYLIGHT
TZOFFSETFROM:-0600
TZOFFSETTO:-0500
TZNAME:CDT
DTSTART:20230312T080000
END:DAYLIGHT
BEGIN:STANDARD
TZOFFSETFROM:-0500
TZOFFSETTO:-0600
TZNAME:CST
DTSTART:20231105T070000
END:STANDARD
BEGIN:DAYLIGHT
TZOFFSETFROM:-0600
TZOFFSETTO:-0500
TZNAME:CDT
DTSTART:20240310T080000
END:DAYLIGHT
BEGIN:STANDARD
TZOFFSETFROM:-0500
TZOFFSETTO:-0600
TZNAME:CST
DTSTART:20241103T070000
END:STANDARD
BEGIN:DAYLIGHT
TZOFFSETFROM:-0600
TZOFFSETTO:-0500
TZNAME:CDT
DTSTART:20250309T080000
END:DAYLIGHT
BEGIN:STANDARD
TZOFFSETFROM:-0500
TZOFFSETTO:-0600
TZNAME:CST
DTSTART:20251102T070000
END:STANDARD
END:VTIMEZONE
BEGIN:VEVENT
DTSTART;TZID=America/Chicago:20241102T140000
DTEND;TZID=America/Chicago:20241102T160000
DTSTAMP:20260420T015258
CREATED:20241004T102533Z
LAST-MODIFIED:20241010T092336Z
UID:10000283-1730556000-1730563200@lcuniversity.edu
SUMMARY:TLC Presents The 25th Annual Putnam County Spelling Bee
DESCRIPTION:Martin Performing Arts Center
URL:https://lcuniversity.edu/event/tlc-presents-the-25th-annual-putnam-county-spelling-bee/2024-11-02/2/
CATEGORIES:Arts Calendar
ATTACH;FMTTYPE=image/jpeg:https://lcuniversity.edu/wp-content/uploads/2024/10/New-Project.jpg
END:VEVENT
BEGIN:VEVENT
DTSTART;TZID=America/Chicago:20241101T190000
DTEND;TZID=America/Chicago:20241101T210000
DTSTAMP:20260420T015259
CREATED:20241004T102533Z
LAST-MODIFIED:20241010T092336Z
UID:10000297-1730487600-1730494800@lcuniversity.edu
SUMMARY:TLC Presents The 25th Annual Putnam County Spelling Bee
DESCRIPTION:Martin Performing Arts Center
URL:https://lcuniversity.edu/event/tlc-presents-the-25th-annual-putnam-county-spelling-bee/2024-11-01/
CATEGORIES:Arts Calendar
ATTACH;FMTTYPE=image/jpeg:https://lcuniversity.edu/wp-content/uploads/2024/10/New-Project.jpg
END:VEVENT
BEGIN:VEVENT
DTSTART;TZID=America/Chicago:20241031T190000
DTEND;TZID=America/Chicago:20241031T210000
DTSTAMP:20260420T015259
CREATED:20241004T102533Z
LAST-MODIFIED:20241010T092336Z
UID:10000296-1730401200-1730408400@lcuniversity.edu
SUMMARY:TLC Presents The 25th Annual Putnam County Spelling Bee
DESCRIPTION:Martin Performing Arts Center
URL:https://lcuniversity.edu/event/tlc-presents-the-25th-annual-putnam-county-spelling-bee/2024-10-31/
CATEGORIES:Arts Calendar
ATTACH;FMTTYPE=image/jpeg:https://lcuniversity.edu/wp-content/uploads/2024/10/New-Project.jpg
END:VEVENT
BEGIN:VEVENT
DTSTART;TZID=America/Chicago:20241026T190000
DTEND;TZID=America/Chicago:20241026T210000
DTSTAMP:20260420T015259
CREATED:20241004T102533Z
LAST-MODIFIED:20241010T092336Z
UID:10000295-1729969200-1729976400@lcuniversity.edu
SUMMARY:TLC Presents The 25th Annual Putnam County Spelling Bee
DESCRIPTION:Martin Performing Arts Center
URL:https://lcuniversity.edu/event/tlc-presents-the-25th-annual-putnam-county-spelling-bee/2024-10-26/3/
CATEGORIES:Arts Calendar
ATTACH;FMTTYPE=image/jpeg:https://lcuniversity.edu/wp-content/uploads/2024/10/New-Project.jpg
END:VEVENT
BEGIN:VEVENT
DTSTART;TZID=America/Chicago:20241026T140000
DTEND;TZID=America/Chicago:20241026T160000
DTSTAMP:20260420T015259
CREATED:20241004T102533Z
LAST-MODIFIED:20241010T092336Z
UID:10000279-1729951200-1729958400@lcuniversity.edu
SUMMARY:TLC Presents The 25th Annual Putnam County Spelling Bee
DESCRIPTION:Martin Performing Arts Center
URL:https://lcuniversity.edu/event/tlc-presents-the-25th-annual-putnam-county-spelling-bee/2024-10-26/2/
CATEGORIES:Arts Calendar
ATTACH;FMTTYPE=image/jpeg:https://lcuniversity.edu/wp-content/uploads/2024/10/New-Project.jpg
END:VEVENT
BEGIN:VEVENT
DTSTART;TZID=America/Chicago:20241025T190000
DTEND;TZID=America/Chicago:20241025T210000
DTSTAMP:20260420T015259
CREATED:20241004T102533Z
LAST-MODIFIED:20241010T092336Z
UID:10000294-1729882800-1729890000@lcuniversity.edu
SUMMARY:TLC Presents The 25th Annual Putnam County Spelling Bee
DESCRIPTION:Martin Performing Arts Center
URL:https://lcuniversity.edu/event/tlc-presents-the-25th-annual-putnam-county-spelling-bee/2024-10-25/
CATEGORIES:Arts Calendar
ATTACH;FMTTYPE=image/jpeg:https://lcuniversity.edu/wp-content/uploads/2024/10/New-Project.jpg
END:VEVENT
BEGIN:VEVENT
DTSTART;TZID=America/Chicago:20241024T190000
DTEND;TZID=America/Chicago:20241024T210000
DTSTAMP:20260420T015259
CREATED:20241004T102533Z
LAST-MODIFIED:20241010T092336Z
UID:10000293-1729796400-1729803600@lcuniversity.edu
SUMMARY:TLC Presents The 25th Annual Putnam County Spelling Bee
DESCRIPTION:Martin Performing Arts Center
URL:https://lcuniversity.edu/event/tlc-presents-the-25th-annual-putnam-county-spelling-bee/2024-10-24/
CATEGORIES:Arts Calendar
ATTACH;FMTTYPE=image/jpeg:https://lcuniversity.edu/wp-content/uploads/2024/10/New-Project.jpg
END:VEVENT
BEGIN:VEVENT
DTSTART;TZID=America/Chicago:20241019T180000
DTEND;TZID=America/Chicago:20241019T200000
DTSTAMP:20260420T015259
CREATED:20241017T182056Z
LAST-MODIFIED:20241017T182056Z
UID:10000299-1729360800-1729368000@lcuniversity.edu
SUMMARY:Red River Wind Symphony
DESCRIPTION:
URL:https://lcuniversity.edu/event/red-river-wind-symphony/
CATEGORIES:Arts Calendar
END:VEVENT
BEGIN:VEVENT
DTSTART;TZID=America/Chicago:20241019T180000
DTEND;TZID=America/Chicago:20241019T190000
DTSTAMP:20260420T015259
CREATED:20241004T102412Z
LAST-MODIFIED:20241010T092832Z
UID:10000264-1729360800-1729364400@lcuniversity.edu
SUMMARY:Fall Chorale Concert
DESCRIPTION:Guinn Auditorium
URL:https://lcuniversity.edu/event/fall-chorale-concert/
CATEGORIES:Arts Calendar
ATTACH;FMTTYPE=image/jpeg:https://lcuniversity.edu/wp-content/uploads/2024/10/New-Project.jpg
END:VEVENT
BEGIN:VEVENT
DTSTART;TZID=America/Chicago:20241018T170000
DTEND;TZID=America/Chicago:20241018T180000
DTSTAMP:20260420T015259
CREATED:20241004T101500Z
LAST-MODIFIED:20241010T092829Z
UID:10000263-1729270800-1729274400@lcuniversity.edu
SUMMARY:Alumni Art Show feat. Clyde Downs & Ken Tracy
DESCRIPTION:Weathersby Fine Ars Building
URL:https://lcuniversity.edu/event/alumni-art-show-feat-clyde-downs-ken-tracy/
CATEGORIES:Arts Calendar
ATTACH;FMTTYPE=image/jpeg:https://lcuniversity.edu/wp-content/uploads/2024/10/New-Project.jpg
END:VEVENT
END:VCALENDAR