BEGIN:VCALENDAR
VERSION:2.0
PRODID:-//Louisiana Christian University - ECPv6.15.20//NONSGML v1.0//EN
CALSCALE:GREGORIAN
METHOD:PUBLISH
X-WR-CALNAME:Louisiana Christian University
X-ORIGINAL-URL:https://lcuniversity.edu
X-WR-CALDESC:Events for Louisiana Christian University
REFRESH-INTERVAL;VALUE=DURATION:PT1H
X-Robots-Tag:noindex
X-PUBLISHED-TTL:PT1H
BEGIN:VTIMEZONE
TZID:America/Chicago
BEGIN:DAYLIGHT
TZOFFSETFROM:-0600
TZOFFSETTO:-0500
TZNAME:CDT
DTSTART:20230312T080000
END:DAYLIGHT
BEGIN:STANDARD
TZOFFSETFROM:-0500
TZOFFSETTO:-0600
TZNAME:CST
DTSTART:20231105T070000
END:STANDARD
BEGIN:DAYLIGHT
TZOFFSETFROM:-0600
TZOFFSETTO:-0500
TZNAME:CDT
DTSTART:20240310T080000
END:DAYLIGHT
BEGIN:STANDARD
TZOFFSETFROM:-0500
TZOFFSETTO:-0600
TZNAME:CST
DTSTART:20241103T070000
END:STANDARD
BEGIN:DAYLIGHT
TZOFFSETFROM:-0600
TZOFFSETTO:-0500
TZNAME:CDT
DTSTART:20250309T080000
END:DAYLIGHT
BEGIN:STANDARD
TZOFFSETFROM:-0500
TZOFFSETTO:-0600
TZNAME:CST
DTSTART:20251102T070000
END:STANDARD
END:VTIMEZONE
BEGIN:VEVENT
DTSTART;VALUE=DATE:20240819
DTEND;VALUE=DATE:20240820
DTSTAMP:20260419T175551
CREATED:20240531T143504Z
LAST-MODIFIED:20240531T143504Z
UID:10000165-1724025600-1724111999@lcuniversity.edu
SUMMARY:First Day of Classes
DESCRIPTION:
URL:https://lcuniversity.edu/event/first-day-of-classes-2/
CATEGORIES:Academic
END:VEVENT
BEGIN:VEVENT
DTSTART;VALUE=DATE:20240821
DTEND;VALUE=DATE:20240822
DTSTAMP:20260419T175551
CREATED:20240531T143504Z
LAST-MODIFIED:20240531T143504Z
UID:10000167-1724198400-1724284799@lcuniversity.edu
SUMMARY:Last Day to Register/Drop/Add Term A Courses
DESCRIPTION:
URL:https://lcuniversity.edu/event/last-day-to-register-drop-add-term-a-courses-2/
CATEGORIES:Academic
END:VEVENT
BEGIN:VEVENT
DTSTART;VALUE=DATE:20240822
DTEND;VALUE=DATE:20240823
DTSTAMP:20260419T175551
CREATED:20240531T143505Z
LAST-MODIFIED:20240531T143505Z
UID:10000168-1724284800-1724371199@lcuniversity.edu
SUMMARY:Field Orientation for MSW Students
DESCRIPTION:
URL:https://lcuniversity.edu/event/field-orientation-for-msw-students-3/
CATEGORIES:Academic
END:VEVENT
END:VCALENDAR