BEGIN:VCALENDAR
VERSION:2.0
PRODID:-//Louisiana Christian University - ECPv6.15.20//NONSGML v1.0//EN
CALSCALE:GREGORIAN
METHOD:PUBLISH
X-ORIGINAL-URL:https://lcuniversity.edu
X-WR-CALDESC:Events for Louisiana Christian University
REFRESH-INTERVAL;VALUE=DURATION:PT1H
X-Robots-Tag:noindex
X-PUBLISHED-TTL:PT1H
BEGIN:VTIMEZONE
TZID:America/Chicago
BEGIN:DAYLIGHT
TZOFFSETFROM:-0600
TZOFFSETTO:-0500
TZNAME:CDT
DTSTART:20230312T080000
END:DAYLIGHT
BEGIN:STANDARD
TZOFFSETFROM:-0500
TZOFFSETTO:-0600
TZNAME:CST
DTSTART:20231105T070000
END:STANDARD
BEGIN:DAYLIGHT
TZOFFSETFROM:-0600
TZOFFSETTO:-0500
TZNAME:CDT
DTSTART:20240310T080000
END:DAYLIGHT
BEGIN:STANDARD
TZOFFSETFROM:-0500
TZOFFSETTO:-0600
TZNAME:CST
DTSTART:20241103T070000
END:STANDARD
BEGIN:DAYLIGHT
TZOFFSETFROM:-0600
TZOFFSETTO:-0500
TZNAME:CDT
DTSTART:20250309T080000
END:DAYLIGHT
BEGIN:STANDARD
TZOFFSETFROM:-0500
TZOFFSETTO:-0600
TZNAME:CST
DTSTART:20251102T070000
END:STANDARD
BEGIN:DAYLIGHT
TZOFFSETFROM:-0600
TZOFFSETTO:-0500
TZNAME:CDT
DTSTART:20260308T080000
END:DAYLIGHT
BEGIN:STANDARD
TZOFFSETFROM:-0500
TZOFFSETTO:-0600
TZNAME:CST
DTSTART:20261101T070000
END:STANDARD
END:VTIMEZONE
BEGIN:VEVENT
DTSTART;VALUE=DATE:20240830
DTEND;VALUE=DATE:20240831
DTSTAMP:20260419T093507
CREATED:20240531T143704Z
LAST-MODIFIED:20240531T143704Z
UID:10000170-1724976000-1725062399@lcuniversity.edu
SUMMARY:Deadline to Apply for December 2024 Degree Completion
DESCRIPTION:
URL:https://lcuniversity.edu/event/deadline-to-apply-for-december-2024-degree-completion-2/
CATEGORIES:Academic
END:VEVENT
BEGIN:VEVENT
DTSTART;VALUE=DATE:20240911
DTEND;VALUE=DATE:20240912
DTSTAMP:20260419T093507
CREATED:20240531T143704Z
LAST-MODIFIED:20240531T143704Z
UID:10000172-1726012800-1726099199@lcuniversity.edu
SUMMARY:Last Day to Withdraw with a W" in Term A Courses"
DESCRIPTION:
URL:https://lcuniversity.edu/event/last-day-to-withdraw-with-a-w-in-term-a-courses-3/
CATEGORIES:Academic
END:VEVENT
BEGIN:VEVENT
DTSTART;VALUE=DATE:20240913
DTEND;VALUE=DATE:20240914
DTSTAMP:20260419T093507
CREATED:20240531T143704Z
LAST-MODIFIED:20240531T143704Z
UID:10000173-1726185600-1726271999@lcuniversity.edu
SUMMARY:Course Schedules for Spring and Summer 2025 Due to Registrar Office
DESCRIPTION:
URL:https://lcuniversity.edu/event/course-schedules-for-spring-and-summer-2025-due-to-registrar-office-2/
CATEGORIES:Academic
END:VEVENT
BEGIN:VEVENT
DTSTART;VALUE=DATE:20240926
DTEND;VALUE=DATE:20240927
DTSTAMP:20260419T093507
CREATED:20240531T143905Z
LAST-MODIFIED:20240531T143905Z
UID:10000174-1727308800-1727395199@lcuniversity.edu
SUMMARY:Absence & Deficiency Report Due for Full-Semester Classes
DESCRIPTION:
URL:https://lcuniversity.edu/event/absence-deficiency-report-due-for-full-semester-classes-3/
CATEGORIES:Academic
END:VEVENT
BEGIN:VEVENT
DTSTART;VALUE=DATE:20241001
DTEND;VALUE=DATE:20241002
DTSTAMP:20260419T093507
CREATED:20240531T143906Z
LAST-MODIFIED:20240531T143906Z
UID:10000175-1727740800-1727827199@lcuniversity.edu
SUMMARY:Last Day to Withdraw with WP/WF" or Resign Term A Courses"
DESCRIPTION:
URL:https://lcuniversity.edu/event/last-day-to-withdraw-with-wp-wf-or-resign-term-a-courses-2/
CATEGORIES:Academic
END:VEVENT
BEGIN:VEVENT
DTSTART;VALUE=DATE:20241004
DTEND;VALUE=DATE:20241005
DTSTAMP:20260419T093507
CREATED:20240531T143906Z
LAST-MODIFIED:20240531T143906Z
UID:10000176-1728000000-1728086399@lcuniversity.edu
SUMMARY:Last Day of Term A Courses
DESCRIPTION:
URL:https://lcuniversity.edu/event/last-day-of-term-a-courses-3/
CATEGORIES:Academic
END:VEVENT
BEGIN:VEVENT
DTSTART;VALUE=DATE:20241004
DTEND;VALUE=DATE:20241005
DTSTAMP:20260419T093507
CREATED:20240531T143907Z
LAST-MODIFIED:20240531T143907Z
UID:10000177-1728000000-1728086399@lcuniversity.edu
SUMMARY:Book Orders for Spring Semester Courses Due to Book Store
DESCRIPTION:
URL:https://lcuniversity.edu/event/book-orders-for-spring-semester-courses-due-to-book-store-2/
CATEGORIES:Academic
END:VEVENT
BEGIN:VEVENT
DTSTART;VALUE=DATE:20241005
DTEND;VALUE=DATE:20241006
DTSTAMP:20260419T093507
CREATED:20240531T144105Z
LAST-MODIFIED:20240531T144105Z
UID:10000179-1728086400-1728172799@lcuniversity.edu
SUMMARY:Final Exams Term A Courses
DESCRIPTION:
URL:https://lcuniversity.edu/event/final-exams-term-a-courses-3/
CATEGORIES:Academic
END:VEVENT
BEGIN:VEVENT
DTSTART;VALUE=DATE:20241009
DTEND;VALUE=DATE:20241010
DTSTAMP:20260419T093507
CREATED:20240531T144106Z
LAST-MODIFIED:20240531T144106Z
UID:10000180-1728432000-1728518399@lcuniversity.edu
SUMMARY:Grades Due for Term A Courses
DESCRIPTION:
URL:https://lcuniversity.edu/event/grades-due-for-term-a-courses-2/
CATEGORIES:Academic
END:VEVENT
BEGIN:VEVENT
DTSTART;VALUE=DATE:20241014
DTEND;VALUE=DATE:20241015
DTSTAMP:20260419T093507
CREATED:20240531T144106Z
LAST-MODIFIED:20240531T144106Z
UID:10000182-1728864000-1728950399@lcuniversity.edu
SUMMARY:Senior Advising and C.S. Lewis Honors Advising: Online Registration for Spring/Summer 2025
DESCRIPTION:
URL:https://lcuniversity.edu/event/senior-advising-and-c-s-lewis-honors-advising-online-registration-for-spring-summer-2025-2/
CATEGORIES:Academic
END:VEVENT
BEGIN:VEVENT
DTSTART;VALUE=DATE:20241014
DTEND;VALUE=DATE:20241015
DTSTAMP:20260419T093507
CREATED:20240531T144106Z
LAST-MODIFIED:20240531T144106Z
UID:10000183-1728864000-1728950399@lcuniversity.edu
SUMMARY:First Day of Term B Courses
DESCRIPTION:
URL:https://lcuniversity.edu/event/first-day-of-term-b-courses-3/
CATEGORIES:Academic
END:VEVENT
BEGIN:VEVENT
DTSTART;VALUE=DATE:20241014
DTEND;VALUE=DATE:20241015
DTSTAMP:20260419T093507
CREATED:20240531T144225Z
LAST-MODIFIED:20240531T144225Z
UID:10000184-1728864000-1728950399@lcuniversity.edu
SUMMARY:Classes Resume
DESCRIPTION:
URL:https://lcuniversity.edu/event/classes-resume-3/
CATEGORIES:Academic
END:VEVENT
BEGIN:VEVENT
DTSTART;VALUE=DATE:20241016
DTEND;VALUE=DATE:20241017
DTSTAMP:20260419T093507
CREATED:20240531T144226Z
LAST-MODIFIED:20240531T144226Z
UID:10000185-1729036800-1729123199@lcuniversity.edu
SUMMARY:Last Day to Drop/Add Term B Courses
DESCRIPTION:
URL:https://lcuniversity.edu/event/last-day-to-drop-add-term-b-courses-3/
CATEGORIES:Academic
END:VEVENT
BEGIN:VEVENT
DTSTART;VALUE=DATE:20241021
DTEND;VALUE=DATE:20241022
DTSTAMP:20260419T093507
CREATED:20240531T144226Z
LAST-MODIFIED:20240531T144226Z
UID:10000187-1729468800-1729555199@lcuniversity.edu
SUMMARY:Last Day to Withdraw with a W" for Full Semester Courses"
DESCRIPTION:
URL:https://lcuniversity.edu/event/last-day-to-withdraw-with-a-w-for-full-semester-courses-2/
CATEGORIES:Academic
END:VEVENT
BEGIN:VEVENT
DTSTART;VALUE=DATE:20241021
DTEND;VALUE=DATE:20241022
DTSTAMP:20260419T093507
CREATED:20240531T144226Z
LAST-MODIFIED:20240531T144226Z
UID:10000188-1729468800-1729555199@lcuniversity.edu
SUMMARY:Junior Advising & Online Registration Begins for Spring/Summer 2025
DESCRIPTION:
URL:https://lcuniversity.edu/event/junior-advising-online-registration-begins-for-spring-summer-2025-2/
CATEGORIES:Academic
END:VEVENT
BEGIN:VEVENT
DTSTART;VALUE=DATE:20241028
DTEND;VALUE=DATE:20241029
DTSTAMP:20260419T093507
CREATED:20240531T144236Z
LAST-MODIFIED:20240531T144236Z
UID:10000190-1730073600-1730159999@lcuniversity.edu
SUMMARY:Sophomore Advising & Online Registration Begins for Spring/Summer 2025
DESCRIPTION:
URL:https://lcuniversity.edu/event/sophomore-advising-online-registration-begins-for-spring-summer-2025-2/
CATEGORIES:Academic
END:VEVENT
BEGIN:VEVENT
DTSTART;VALUE=DATE:20241104
DTEND;VALUE=DATE:20241105
DTSTAMP:20260419T093507
CREATED:20240531T144236Z
LAST-MODIFIED:20240531T144236Z
UID:10000191-1730678400-1730764799@lcuniversity.edu
SUMMARY:Freshman Advising & Online Registration begins for Spring /Summer 2025
DESCRIPTION:
URL:https://lcuniversity.edu/event/freshman-advising-online-registration-begins-for-spring-summer-2025-2/
CATEGORIES:Academic
END:VEVENT
BEGIN:VEVENT
DTSTART;VALUE=DATE:20241106
DTEND;VALUE=DATE:20241107
DTSTAMP:20260419T093507
CREATED:20240531T144236Z
LAST-MODIFIED:20240531T144236Z
UID:10000193-1730851200-1730937599@lcuniversity.edu
SUMMARY:Last Day to Withdraw with W" for Term B Courses"
DESCRIPTION:
URL:https://lcuniversity.edu/event/last-day-to-withdraw-with-w-for-term-b-courses-2/
CATEGORIES:Academic
END:VEVENT
BEGIN:VEVENT
DTSTART;VALUE=DATE:20241111
DTEND;VALUE=DATE:20241112
DTSTAMP:20260419T093507
CREATED:20240531T144346Z
LAST-MODIFIED:20240531T144346Z
UID:10000194-1731283200-1731369599@lcuniversity.edu
SUMMARY:Dual Enrollment\, Non-Degree\, New Spring Students Advising & Online Registration Begins for Spring/Summer 2025
DESCRIPTION:
URL:https://lcuniversity.edu/event/dual-enrollment-non-degree-new-spring-students-advising-online-registration-begins-for-spring-summer-2025-2/
CATEGORIES:Academic
END:VEVENT
BEGIN:VEVENT
DTSTART;VALUE=DATE:20241115
DTEND;VALUE=DATE:20241116
DTSTAMP:20260419T093507
CREATED:20240531T144346Z
LAST-MODIFIED:20240531T144346Z
UID:10000195-1731628800-1731715199@lcuniversity.edu
SUMMARY:Last Day to Withdraw with WP/WF" or Resign Full Semester"
DESCRIPTION:
URL:https://lcuniversity.edu/event/last-day-to-withdraw-with-wp-wf-or-resign-full-semester-2/
CATEGORIES:Academic
END:VEVENT
BEGIN:VEVENT
DTSTART;VALUE=DATE:20241122
DTEND;VALUE=DATE:20241123
DTSTAMP:20260419T093507
CREATED:20240531T144346Z
LAST-MODIFIED:20240531T144346Z
UID:10000196-1732233600-1732319999@lcuniversity.edu
SUMMARY:Last Day of Classes for Full Semester Courses
DESCRIPTION:
URL:https://lcuniversity.edu/event/last-day-of-classes-for-full-semester-courses-2/
CATEGORIES:Academic
END:VEVENT
BEGIN:VEVENT
DTSTART;VALUE=DATE:20241129
DTEND;VALUE=DATE:20241130
DTSTAMP:20260419T093507
CREATED:20240531T144547Z
LAST-MODIFIED:20240531T144547Z
UID:10000199-1732838400-1732924799@lcuniversity.edu
SUMMARY:Last Day of Term B Courses
DESCRIPTION:
URL:https://lcuniversity.edu/event/last-day-of-term-b-courses-2/
CATEGORIES:Academic
END:VEVENT
BEGIN:VEVENT
DTSTART;VALUE=DATE:20241130
DTEND;VALUE=DATE:20241201
DTSTAMP:20260419T093507
CREATED:20240531T144547Z
LAST-MODIFIED:20240531T144547Z
UID:10000200-1732924800-1733011199@lcuniversity.edu
SUMMARY:Final Exams Term B Courses
DESCRIPTION:
URL:https://lcuniversity.edu/event/final-exams-term-b-courses-2/
CATEGORIES:Academic
END:VEVENT
BEGIN:VEVENT
DTSTART;VALUE=DATE:20241202
DTEND;VALUE=DATE:20241203
DTSTAMP:20260419T093507
CREATED:20240531T144548Z
LAST-MODIFIED:20240531T144548Z
UID:10000201-1733097600-1733183999@lcuniversity.edu
SUMMARY:Final Exams for Full Semester Classes
DESCRIPTION:
URL:https://lcuniversity.edu/event/final-exams-for-full-semester-classes-2/
CATEGORIES:Academic
END:VEVENT
BEGIN:VEVENT
DTSTART;VALUE=DATE:20241205
DTEND;VALUE=DATE:20241206
DTSTAMP:20260419T093507
CREATED:20240531T144548Z
LAST-MODIFIED:20240531T144548Z
UID:10000202-1733356800-1733443199@lcuniversity.edu
SUMMARY:Final Date to Apply for December 2025 Degree Completion
DESCRIPTION:
URL:https://lcuniversity.edu/event/final-date-to-apply-for-december-2025-degree-completion-2/
CATEGORIES:Academic
END:VEVENT
BEGIN:VEVENT
DTSTART;VALUE=DATE:20241209
DTEND;VALUE=DATE:20241210
DTSTAMP:20260419T093507
CREATED:20240531T144747Z
LAST-MODIFIED:20240531T144747Z
UID:10000204-1733702400-1733788799@lcuniversity.edu
SUMMARY:Grades Due
DESCRIPTION:
URL:https://lcuniversity.edu/event/grades-due-2/
CATEGORIES:Academic
END:VEVENT
BEGIN:VEVENT
DTSTART;VALUE=DATE:20250205
DTEND;VALUE=DATE:20250206
DTSTAMP:20260419T093507
CREATED:20240531T145104Z
LAST-MODIFIED:20240531T145104Z
UID:10000206-1738713600-1738799999@lcuniversity.edu
SUMMARY:Last Day to Withdraw with a W" in Term A Courses"
DESCRIPTION:
URL:https://lcuniversity.edu/event/last-day-to-withdraw-with-a-w-in-term-a-courses-4/
CATEGORIES:Academic
END:VEVENT
BEGIN:VEVENT
DTSTART;VALUE=DATE:20250207
DTEND;VALUE=DATE:20250208
DTSTAMP:20260419T093507
CREATED:20240531T145106Z
LAST-MODIFIED:20240531T145106Z
UID:10000207-1738886400-1738972799@lcuniversity.edu
SUMMARY:Course Schedules for Fall 2025 Due to Registrar's Office
DESCRIPTION:
URL:https://lcuniversity.edu/event/course-schedules-for-fall-2025-due-to-registrars-office-2/
CATEGORIES:Academic
END:VEVENT
BEGIN:VEVENT
DTSTART;VALUE=DATE:20250218
DTEND;VALUE=DATE:20250221
DTSTAMP:20260419T093507
CREATED:20241115T151620Z
LAST-MODIFIED:20241115T151620Z
UID:10000301-1739836800-1740095999@lcuniversity.edu
SUMMARY:Spring Revival
DESCRIPTION:
URL:https://lcuniversity.edu/event/spring-revival/
CATEGORIES:Academic
END:VEVENT
BEGIN:VEVENT
DTSTART;VALUE=DATE:20250220
DTEND;VALUE=DATE:20250221
DTSTAMP:20260419T093507
CREATED:20240531T145106Z
LAST-MODIFIED:20240531T145106Z
UID:10000208-1740009600-1740095999@lcuniversity.edu
SUMMARY:Absence & Deficiency Report Due for Full-Semester Classes
DESCRIPTION:
URL:https://lcuniversity.edu/event/absence-deficiency-report-due-for-full-semester-classes-4/
CATEGORIES:Academic
END:VEVENT
END:VCALENDAR